BEGIN:VCALENDAR
VERSION:2.0
PRODID:-//Tukios.com/
BEGIN:VEVENT
UID:4ae5b36c-db76-4661-8ea3-194b6023e57c@www.schertzfuneralhome.com
DTSTAMP:20260424T221752Z
DTSTART:20260430T171500Z
DTEND:20260430T173000Z
SUMMARY:Graveside Service
DESCRIPTION:
URL:https://www.schertzfuneralhome.com/obituaries/victoria-alvarez-de-gomez
LOCATION: 16075 N Evans Rd  Selma TX 78154
GEO:29.5848819;-98.307732
END:VEVENT
END:VCALENDAR