BEGIN:VCALENDAR
VERSION:2.0
PRODID:-//Tukios.com/
BEGIN:VEVENT
UID:12ceb3a0-a606-480c-a781-eb7d7885a30c@www.schertzfuneralhome.com
DTSTAMP:20260424T222349Z
DTSTART:20260430T160000Z
DTEND:20260430T170000Z
SUMMARY:Funeral Mass
DESCRIPTION:
URL:https://www.schertzfuneralhome.com/obituaries/victoria-alvarez-de-gomez
LOCATION: 16075 N Evans Rd  Selma TX 78154
GEO:29.5848819;-98.307732
END:VEVENT
END:VCALENDAR