BEGIN:VCALENDAR
VERSION:2.0
PRODID:-//Tukios.com/
BEGIN:VEVENT
UID:e6625726-b85a-4402-b207-bb045239546f@www.schertzfuneralhome.com
DTSTAMP:20260424T222000Z
DTSTART:20260430T153000Z
DTEND:20260430T160000Z
SUMMARY:Rosary
DESCRIPTION:
URL:https://www.schertzfuneralhome.com/obituaries/victoria-alvarez-de-gomez
LOCATION: 16075 N Evans Rd  Selma TX 78154
GEO:29.5848819;-98.307732
END:VEVENT
END:VCALENDAR