BEGIN:VCALENDAR
VERSION:2.0
PRODID:-//Tukios.com/
BEGIN:VEVENT
UID:72a63c62-9112-43b6-a853-30ae5da8795b@www.schertzfuneralhome.com
DTSTAMP:20260424T225515Z
DTSTART:20260511T180000Z
DTEND:20260511T181500Z
SUMMARY:Interment
DESCRIPTION:
URL:https://www.schertzfuneralhome.com/obituaries/sherry-burch
LOCATION: 1520 Harry Wurzbach Rd  San Antonio TX 78209
GEO:29.4766877;-98.4337683
END:VEVENT
END:VCALENDAR