BEGIN:VCALENDAR
VERSION:2.0
PRODID:-//Tukios.com/
BEGIN:VEVENT
UID:1ef58a89-d401-4118-86f5-933f9782a1d3@www.schertzfuneralhome.com
DTSTAMP:20260424T225920Z
DTSTART:20260511T160000Z
DTEND:20260511T170000Z
SUMMARY:Funeral Service
DESCRIPTION:
URL:https://www.schertzfuneralhome.com/obituaries/sherry-burch
LOCATION: 2217 FM3009  Schertz TX 78154
GEO:29.5748708;-98.2614094
END:VEVENT
END:VCALENDAR