BEGIN:VCALENDAR
VERSION:2.0
PRODID:-//Tukios.com/
BEGIN:VEVENT
UID:f6aa4437-0c5b-4a0a-b0a3-6948fb37ccfc@www.schertzfuneralhome.com
DTSTAMP:20260424T230104Z
DTSTART:20260510T210000Z
DTEND:20260511T000000Z
SUMMARY:Visitation
DESCRIPTION:
URL:https://www.schertzfuneralhome.com/obituaries/sherry-burch
LOCATION: 2217 FM3009  Schertz TX 78154
GEO:29.5748708;-98.2614094
END:VEVENT
END:VCALENDAR