BEGIN:VCALENDAR
VERSION:2.0
PRODID:-//Tukios.com/
BEGIN:VEVENT
UID:b37b9ab4-6bda-4384-a3ae-d1751e455c46@www.schertzfuneralhome.com
DTSTAMP:20260422T011244Z
DTSTART:20260426T183000Z
DTEND:20260426T193000Z
SUMMARY:Visitation
DESCRIPTION:
URL:https://www.schertzfuneralhome.com/obituaries/russell-barbee
LOCATION: 2217 FM3009  Schertz TX 78154
GEO:29.5748708;-98.2614094
END:VEVENT
END:VCALENDAR