BEGIN:VCALENDAR
VERSION:2.0
PRODID:-//Tukios.com/
BEGIN:VEVENT
UID:4d49f793-3ed0-4a71-b486-c0ffe41c9e33@www.schertzfuneralhome.com
DTSTAMP:20260422T011807Z
DTSTART:20260426T193000Z
DTEND:20260426T203000Z
SUMMARY:Funeral Service
DESCRIPTION:
URL:https://www.schertzfuneralhome.com/obituaries/russell-barbee
LOCATION: 2217 FM3009  Schertz TX 78154
GEO:29.5748708;-98.2614094
END:VEVENT
END:VCALENDAR