BEGIN:VCALENDAR
VERSION:2.0
PRODID:-//Tukios.com/
BEGIN:VEVENT
UID:671eaf14-bf80-4b6b-b3f5-4366b1857a71@www.schertzfuneralhome.com
DTSTAMP:20260422T011640Z
DTSTART:20260424T220000Z
DTEND:20260425T010000Z
SUMMARY:Visitation
DESCRIPTION:
URL:https://www.schertzfuneralhome.com/obituaries/russell-barbee
LOCATION: 2217 FM3009  Schertz TX 78154
GEO:29.5748708;-98.2614094
END:VEVENT
END:VCALENDAR