BEGIN:VCALENDAR
VERSION:2.0
PRODID:-//Tukios.com/
BEGIN:VEVENT
UID:d0ea4d43-b26b-4000-b038-d650ea92dbf4@www.schertzfuneralhome.com
DTSTAMP:20260425T013745Z
DTSTART:20260502T150000Z
DTEND:20260502T160000Z
SUMMARY:Funeral Service
DESCRIPTION:
URL:https://www.schertzfuneralhome.com/obituaries/rosa-rangel
LOCATION: 2217 FM3009  Schertz TX 78154
GEO:29.5748708;-98.2614094
END:VEVENT
END:VCALENDAR