BEGIN:VCALENDAR
VERSION:2.0
PRODID:-//Tukios.com/
BEGIN:VEVENT
UID:12a15297-73c1-4a63-9aaa-a6f17d300c4a@www.schertzfuneralhome.com
DTSTAMP:20260425T013623Z
DTSTART:20260502T000000Z
DTEND:20260502T010000Z
SUMMARY:Rosary
DESCRIPTION:
URL:https://www.schertzfuneralhome.com/obituaries/rosa-rangel
LOCATION: 2217 FM3009  Schertz TX 78154
GEO:29.5748708;-98.2614094
END:VEVENT
END:VCALENDAR