BEGIN:VCALENDAR
VERSION:2.0
PRODID:-//Tukios.com/
BEGIN:VEVENT
UID:9f4e2ce7-be49-4d00-b31f-04ea7093c8f6@www.schertzfuneralhome.com
DTSTAMP:20260425T013623Z
DTSTART:20260501T220000Z
DTEND:20260502T010000Z
SUMMARY:Visitation
DESCRIPTION:
URL:https://www.schertzfuneralhome.com/obituaries/rosa-rangel
LOCATION: 2217 FM3009  Schertz TX 78154
GEO:29.5748708;-98.2614094
END:VEVENT
END:VCALENDAR