BEGIN:VCALENDAR
VERSION:2.0
PRODID:-//Tukios.com/
BEGIN:VEVENT
UID:b149d3ec-1df6-4b2a-93bf-2e4bd63138ae@www.schertzfuneralhome.com
DTSTAMP:20260424T215734Z
DTSTART:20260605T191500Z
DTEND:20260605T193000Z
SUMMARY:Interment
DESCRIPTION:
URL:https://www.schertzfuneralhome.com/obituaries/james-watson
LOCATION: 1520 Harry Wurzbach Rd  San Antonio TX 78209
GEO:29.4766877;-98.4337683
END:VEVENT
END:VCALENDAR