BEGIN:VCALENDAR
VERSION:2.0
PRODID:-//Tukios.com/
BEGIN:VEVENT
UID:4c79a9fd-8493-4854-bba2-f7d5ebef88e2@www.schertzfuneralhome.com
DTSTAMP:20260424T215841Z
DTSTART:20260605T160000Z
DTEND:20260605T170000Z
SUMMARY:Mass
DESCRIPTION:
URL:https://www.schertzfuneralhome.com/obituaries/james-watson
LOCATION: 16075 N Evans Rd  Selma TX 78154
GEO:29.5848819;-98.307732
END:VEVENT
END:VCALENDAR