BEGIN:VCALENDAR
VERSION:2.0
PRODID:-//Tukios.com/
BEGIN:VEVENT
UID:406d3f6d-2f66-4ef9-8f39-ee05e1a01fc0@www.schertzfuneralhome.com
DTSTAMP:20260421T225413Z
DTSTART:20260428T153000Z
DTEND:20260428T170000Z
SUMMARY:Celebration of Life
DESCRIPTION:
URL:https://www.schertzfuneralhome.com/obituaries/elvis-batiste
LOCATION:Agape Christian Church 14303 Judson Rd  San Antonio TX 78233
GEO:29.569903;-98.3684679
END:VEVENT
END:VCALENDAR