BEGIN:VCALENDAR
VERSION:2.0
PRODID:-//Tukios.com/
BEGIN:VEVENT
UID:6cd5c173-7d54-4d17-b3b5-0d70db5fae56@www.schertzfuneralhome.com
DTSTAMP:20260421T225059Z
DTSTART:20260428T140000Z
DTEND:20260428T153000Z
SUMMARY:Visitation
DESCRIPTION:
URL:https://www.schertzfuneralhome.com/obituaries/elvis-batiste
LOCATION:Agape Christian Church 14303 Judson Rd  San Antonio TX 78233
GEO:29.569903;-98.3684679
END:VEVENT
END:VCALENDAR