BEGIN:VCALENDAR
VERSION:2.0
PRODID:-//Tukios.com/
BEGIN:VEVENT
UID:19decb7c-cee2-459e-a241-a929bcc4f6b2@www.schertzfuneralhome.com
DTSTAMP:20260421T225202Z
DTSTART:20260428T181500Z
DTEND:20260428T191500Z
SUMMARY:Burial
DESCRIPTION:
URL:https://www.schertzfuneralhome.com/obituaries/elvis-batiste
LOCATION: 1520 Harry Wurzbach Rd  San Antonio TX 78209
GEO:29.4766877;-98.4337683
END:VEVENT
END:VCALENDAR