BEGIN:VCALENDAR
VERSION:2.0
PRODID:-//Tukios.com/
BEGIN:VEVENT
UID:165de5af-8752-4bf6-84e6-3ea3bc5cb082@www.schertzfuneralhome.com
DTSTAMP:20260420T232706Z
DTSTART:20260425T200000Z
DTEND:20260425T210000Z
SUMMARY:Celebration of Life
DESCRIPTION:Lets gather together and celebrate the life of Arturo Acosta 
	Jr. We will be having a reception here at the funeral home during the 
	visitation.
URL:https://www.schertzfuneralhome.com/obituaries/arturo-acosta-jr
LOCATION: 2217 FM3009  Schertz TX 78154
GEO:29.5748708;-98.2614094
END:VEVENT
END:VCALENDAR