BEGIN:VCALENDAR
VERSION:2.0
PRODID:-//Tukios.com/
BEGIN:VEVENT
UID:18bb411e-e0e4-48ac-a81f-8e405077796c@www.schertzfuneralhome.com
DTSTAMP:20260420T232910Z
DTSTART:20260425T200000Z
DTEND:20260425T230000Z
SUMMARY:Visitation
DESCRIPTION:
URL:https://www.schertzfuneralhome.com/obituaries/arturo-acosta-jr
LOCATION: 2217 FM3009  Schertz TX 78154
GEO:29.5748708;-98.2614094
END:VEVENT
END:VCALENDAR