BEGIN:VCALENDAR
VERSION:2.0
PRODID:-//Tukios.com/
BEGIN:VEVENT
UID:329a6c2a-bc3c-4bc0-8dc2-64f3f0080722@www.schertzfuneralhome.com
DTSTAMP:20260422T224548Z
DTSTART:20260501T000000Z
DTEND:20260501T010000Z
SUMMARY:Rosary
DESCRIPTION:
URL:https://www.schertzfuneralhome.com/obituaries/arnold-moos
LOCATION: 16075 N Evans Rd  Selma TX 78154
GEO:29.5848819;-98.307732
END:VEVENT
END:VCALENDAR