BEGIN:VCALENDAR
VERSION:2.0
PRODID:-//Tukios.com/
BEGIN:VEVENT
UID:2dec3697-eda7-470e-8e1c-4c23c74ac356@www.schertzfuneralhome.com
DTSTAMP:20260422T224143Z
DTSTART:20260501T171500Z
DTEND:20260501T173000Z
SUMMARY:Interment
DESCRIPTION:
URL:https://www.schertzfuneralhome.com/obituaries/arnold-moos
LOCATION: 16075 N Evans Rd  Selma TX 78154
GEO:29.5848819;-98.307732
END:VEVENT
END:VCALENDAR