BEGIN:VCALENDAR
VERSION:2.0
PRODID:-//Tukios.com/
BEGIN:VEVENT
UID:26fb0138-55d4-448e-bfcc-7cf99ac0c4d4@www.schertzfuneralhome.com
DTSTAMP:20260422T224027Z
DTSTART:20260501T160000Z
DTEND:20260501T170000Z
SUMMARY:Mass
DESCRIPTION:
URL:https://www.schertzfuneralhome.com/obituaries/arnold-moos
LOCATION: 16075 N Evans Rd  Selma TX 78154
GEO:29.5848819;-98.307732
END:VEVENT
END:VCALENDAR